BEGIN:VCALENDAR
VERSION:2.0
PRODID:-//peiq//peiq.de//DE
CALSCALE:GREGORIAN
BEGIN:VEVENT
DTSTART:20260422T190000
DTEND:20260422T203000
DTSTAMP:20260419T140857
URL;VALUE=URI:https://www.meine-kirchenzeitung.de/event/143241
SUMMARY:Kantoreiprobe
DESCRIPTION:
LOCATION:An der Kirche 2\, \n04938\, \nUebigau-Wahrenbrück
UID:PEIQ-PMK2-EVENT-143241-0-0@www.meine-kirchenzeitung.de
END:VEVENT
END:VCALENDAR
