BEGIN:VCALENDAR
VERSION:2.0
PRODID:-//peiq//peiq.de//DE
CALSCALE:GREGORIAN
BEGIN:VEVENT
DTSTART:20260419T100000
DTEND:20260419T150000
DTSTAMP:20260419T141017
URL;VALUE=URI:https://www.meine-kirchenzeitung.de/event/143223
SUMMARY:Pfadfinder in Falkenberg
DESCRIPTION:
LOCATION:An der Kirche 2\, \n04938\, \nUebigau-Wahrenbrück
UID:PEIQ-PMK2-EVENT-143223-0-0@www.meine-kirchenzeitung.de
END:VEVENT
END:VCALENDAR
